BEGIN:VCALENDAR
VERSION:2.0
PRODID:-//Midland Chapter Switzerland - ECPv6.15.20//NONSGML v1.0//EN
CALSCALE:GREGORIAN
METHOD:PUBLISH
X-WR-CALNAME:Midland Chapter Switzerland
X-ORIGINAL-URL:https://midland-chapter.ch
X-WR-CALDESC:Veranstaltungen für Midland Chapter Switzerland
REFRESH-INTERVAL;VALUE=DURATION:PT1H
X-Robots-Tag:noindex
X-PUBLISHED-TTL:PT1H
BEGIN:VTIMEZONE
TZID:Europe/Zurich
BEGIN:DAYLIGHT
TZOFFSETFROM:+0100
TZOFFSETTO:+0200
TZNAME:CEST
DTSTART:20250330T010000
END:DAYLIGHT
BEGIN:STANDARD
TZOFFSETFROM:+0200
TZOFFSETTO:+0100
TZNAME:CET
DTSTART:20251026T010000
END:STANDARD
BEGIN:DAYLIGHT
TZOFFSETFROM:+0100
TZOFFSETTO:+0200
TZNAME:CEST
DTSTART:20260329T010000
END:DAYLIGHT
BEGIN:STANDARD
TZOFFSETFROM:+0200
TZOFFSETTO:+0100
TZNAME:CET
DTSTART:20261025T010000
END:STANDARD
BEGIN:DAYLIGHT
TZOFFSETFROM:+0100
TZOFFSETTO:+0200
TZNAME:CEST
DTSTART:20270328T010000
END:DAYLIGHT
BEGIN:STANDARD
TZOFFSETFROM:+0200
TZOFFSETTO:+0100
TZNAME:CET
DTSTART:20271031T010000
END:STANDARD
END:VTIMEZONE
BEGIN:VEVENT
DTSTART;VALUE=DATE:20260425
DTEND;VALUE=DATE:20260426
DTSTAMP:20260421T110901
CREATED:20260110T132305Z
LAST-MODIFIED:20260118T105225Z
UID:10000264-1777075200-1777161599@midland-chapter.ch
SUMMARY:Töff Segnung
DESCRIPTION:
URL:https://midland-chapter.ch/event/toeff-segnung/
CATEGORIES:H-D Aargau Events
END:VEVENT
BEGIN:VEVENT
DTSTART;VALUE=DATE:20260426
DTEND;VALUE=DATE:20260427
DTSTAMP:20260421T110901
CREATED:20260110T132305Z
LAST-MODIFIED:20260118T105225Z
UID:10000265-1777161600-1777247999@midland-chapter.ch
SUMMARY:Frühlingstour
DESCRIPTION:
URL:https://midland-chapter.ch/event/fruehlingstour-2/
CATEGORIES:Ride-Out
END:VEVENT
BEGIN:VEVENT
DTSTART;VALUE=DATE:20260430
DTEND;VALUE=DATE:20260504
DTSTAMP:20260421T110901
CREATED:20260110T132305Z
LAST-MODIFIED:20260110T132305Z
UID:10000266-1777507200-1777852799@midland-chapter.ch
SUMMARY:H.O.G. Europ. Spring Rally Senigallia\, Italy
DESCRIPTION:
URL:https://midland-chapter.ch/event/h-o-g-europ-spring-rally-senigallia-italy/
CATEGORIES:H.O.G. Events
END:VEVENT
BEGIN:VEVENT
DTSTART;VALUE=DATE:20260430
DTEND;VALUE=DATE:20260504
DTSTAMP:20260421T110901
CREATED:20260118T105225Z
LAST-MODIFIED:20260118T105225Z
UID:10000319-1777507200-1777852799@midland-chapter.ch
SUMMARY:H.O.G. Spring Rally Senigallia
DESCRIPTION:
URL:https://midland-chapter.ch/event/h-o-g-spring-rally-senigallia/
CATEGORIES:H.O.G. Events
END:VEVENT
BEGIN:VEVENT
DTSTART;VALUE=DATE:20260502
DTEND;VALUE=DATE:20260503
DTSTAMP:20260421T110901
CREATED:20260110T132311Z
LAST-MODIFIED:20260118T105426Z
UID:10000267-1777680000-1777766399@midland-chapter.ch
SUMMARY:Fahrtraining Extra Geil
DESCRIPTION:
URL:https://midland-chapter.ch/event/fahrtraining-extra-geil/
CATEGORIES:H-D Aargau Events
END:VEVENT
BEGIN:VEVENT
DTSTART;VALUE=DATE:20260503
DTEND;VALUE=DATE:20260504
DTSTAMP:20260421T110901
CREATED:20260110T132311Z
LAST-MODIFIED:20260118T105426Z
UID:10000268-1777766400-1777852799@midland-chapter.ch
SUMMARY:Love Ride
DESCRIPTION:
URL:https://midland-chapter.ch/event/love-ride-2/
CATEGORIES:Andere Bike-Events
END:VEVENT
BEGIN:VEVENT
DTSTART;TZID=Europe/Zurich:20260506T180000
DTEND;TZID=Europe/Zurich:20260506T210000
DTSTAMP:20260421T110901
CREATED:20260110T132312Z
LAST-MODIFIED:20260118T105426Z
UID:10000269-1778090400-1778101200@midland-chapter.ch
SUMMARY:Stamm
DESCRIPTION:
URL:https://midland-chapter.ch/event/stamm-27/
LOCATION:Restaurant Dietiker\, Alte Gasse 1\, Suhr\, 5034\, Switzerland
CATEGORIES:Stamm
END:VEVENT
BEGIN:VEVENT
DTSTART;VALUE=DATE:20260514
DTEND;VALUE=DATE:20260518
DTSTAMP:20260421T110901
CREATED:20260110T132312Z
LAST-MODIFIED:20260118T105426Z
UID:10000270-1778716800-1779062399@midland-chapter.ch
SUMMARY:Auffahrtstour
DESCRIPTION:
URL:https://midland-chapter.ch/event/auffahrtstour-3/
CATEGORIES:Ride-Out
END:VEVENT
BEGIN:VEVENT
DTSTART;TZID=Europe/Zurich:20260520T180000
DTEND;TZID=Europe/Zurich:20260520T220000
DTSTAMP:20260421T110901
CREATED:20260110T132312Z
LAST-MODIFIED:20260118T105426Z
UID:10000271-1779300000-1779314400@midland-chapter.ch
SUMMARY:Monatssitzung
DESCRIPTION:18:00 – 20:00 gemütliches Abendessen (wer möchte)\n20:00 – 21:00 offizieller Teil der Sitzung\, das Ende kann variieren\n21:00 – 22:00 gemütliches Beisammensein (wer möchte)
URL:https://midland-chapter.ch/event/monatssitzung-25/
LOCATION:Restaurant Dietiker\, Alte Gasse 1\, Suhr\, 5034\, Switzerland
CATEGORIES:Monatssitzung
END:VEVENT
BEGIN:VEVENT
DTSTART;VALUE=DATE:20260524
DTEND;VALUE=DATE:20260525
DTSTAMP:20260421T110901
CREATED:20260110T132320Z
LAST-MODIFIED:20260118T105604Z
UID:10000272-1779580800-1779667199@midland-chapter.ch
SUMMARY:Pfingsten
DESCRIPTION:
URL:https://midland-chapter.ch/event/pfingsten/
CATEGORIES:Feiertag
END:VEVENT
BEGIN:VEVENT
DTSTART;VALUE=DATE:20260525
DTEND;VALUE=DATE:20260526
DTSTAMP:20260421T110901
CREATED:20260110T132320Z
LAST-MODIFIED:20260118T105604Z
UID:10000273-1779667200-1779753599@midland-chapter.ch
SUMMARY:Pfingstmontag
DESCRIPTION:
URL:https://midland-chapter.ch/event/pfingstmontag/
CATEGORIES:Feiertag
END:VEVENT
BEGIN:VEVENT
DTSTART;VALUE=DATE:20260530
DTEND;VALUE=DATE:20260601
DTSTAMP:20260421T110901
CREATED:20260110T132320Z
LAST-MODIFIED:20260118T105604Z
UID:10000274-1780099200-1780271999@midland-chapter.ch
SUMMARY:Probefahren (Isebähnli)
DESCRIPTION:
URL:https://midland-chapter.ch/event/probefahren-isebaehnli/
CATEGORIES:H-D Aargau Events
END:VEVENT
BEGIN:VEVENT
DTSTART;TZID=Europe/Zurich:20260603T180000
DTEND;TZID=Europe/Zurich:20260603T210000
DTSTAMP:20260421T110901
CREATED:20260110T132320Z
LAST-MODIFIED:20260118T105604Z
UID:10000275-1780509600-1780520400@midland-chapter.ch
SUMMARY:Stamm
DESCRIPTION:
URL:https://midland-chapter.ch/event/stamm-28/
LOCATION:Restaurant Dietiker\, Alte Gasse 1\, Suhr\, 5034\, Switzerland
CATEGORIES:Stamm
END:VEVENT
BEGIN:VEVENT
DTSTART;VALUE=DATE:20260606
DTEND;VALUE=DATE:20260608
DTSTAMP:20260421T110901
CREATED:20260110T132321Z
LAST-MODIFIED:20260118T105604Z
UID:10000276-1780704000-1780876799@midland-chapter.ch
SUMMARY:Swiss 500 miles 17th
DESCRIPTION:
URL:https://midland-chapter.ch/event/swiss-500-miles-17th/
CATEGORIES:Andere Bike-Events
END:VEVENT
BEGIN:VEVENT
DTSTART;TZID=Europe/Zurich:20260617T180000
DTEND;TZID=Europe/Zurich:20260617T220000
DTSTAMP:20260421T110901
CREATED:20260110T132321Z
LAST-MODIFIED:20260118T105610Z
UID:10000277-1781719200-1781733600@midland-chapter.ch
SUMMARY:Monatssitzung
DESCRIPTION:18:00 – 20:00 gemütliches Abendessen (wer möchte)\n20:00 – 21:00 offizieller Teil der Sitzung\, das Ende kann variieren\n21:00 – 22:00 gemütliches Beisammensein (wer möchte)
URL:https://midland-chapter.ch/event/monatssitzung-26/
LOCATION:Restaurant Dietiker\, Alte Gasse 1\, Suhr\, 5034\, Switzerland
CATEGORIES:Monatssitzung
END:VEVENT
BEGIN:VEVENT
DTSTART;VALUE=DATE:20260618
DTEND;VALUE=DATE:20260621
DTSTAMP:20260421T110901
CREATED:20260110T132322Z
LAST-MODIFIED:20260110T132322Z
UID:10000278-1781740800-1781999999@midland-chapter.ch
SUMMARY:Europ. H.O.G. Rally Cascais\, Portugal
DESCRIPTION:
URL:https://midland-chapter.ch/event/europ-h-o-g-rally-cascais-portugal/
CATEGORIES:H.O.G. Events
END:VEVENT
BEGIN:VEVENT
DTSTART;VALUE=DATE:20260618
DTEND;VALUE=DATE:20260621
DTSTAMP:20260421T110901
CREATED:20260118T105610Z
LAST-MODIFIED:20260118T105610Z
UID:10000320-1781740800-1781999999@midland-chapter.ch
SUMMARY:H.O.G. Rally Cascais
DESCRIPTION:
URL:https://midland-chapter.ch/event/h-o-g-rally-cascais/
CATEGORIES:H.O.G. Events
END:VEVENT
BEGIN:VEVENT
DTSTART;VALUE=DATE:20260619
DTEND;VALUE=DATE:20260622
DTSTAMP:20260421T110901
CREATED:20260110T132322Z
LAST-MODIFIED:20260110T132322Z
UID:10000279-1781827200-1782086399@midland-chapter.ch
SUMMARY:L.O.H. Interchapter by Bündner Chapter
DESCRIPTION:
URL:https://midland-chapter.ch/event/l-o-h-interchapter-by-buendner-chapter/
CATEGORIES:L.O.H. Rideouts
END:VEVENT
BEGIN:VEVENT
DTSTART;VALUE=DATE:20260619
DTEND;VALUE=DATE:20260622
DTSTAMP:20260421T110901
CREATED:20260118T105610Z
LAST-MODIFIED:20260118T105610Z
UID:10000321-1781827200-1782086399@midland-chapter.ch
SUMMARY:L.O.H. Interchapter
DESCRIPTION:
URL:https://midland-chapter.ch/event/l-o-h-interchapter/
CATEGORIES:L.O.H. Rideouts
END:VEVENT
BEGIN:VEVENT
DTSTART;VALUE=DATE:20260621
DTEND;VALUE=DATE:20260622
DTSTAMP:20260421T110901
CREATED:20260110T132322Z
LAST-MODIFIED:20260118T105610Z
UID:10000280-1782000000-1782086399@midland-chapter.ch
SUMMARY:Gents Ride
DESCRIPTION:
URL:https://midland-chapter.ch/event/gents-ride-2/
CATEGORIES:Ride-Out
END:VEVENT
BEGIN:VEVENT
DTSTART;VALUE=DATE:20260626
DTEND;VALUE=DATE:20260629
DTSTAMP:20260421T110901
CREATED:20260110T132322Z
LAST-MODIFIED:20260118T105610Z
UID:10000281-1782432000-1782691199@midland-chapter.ch
SUMMARY:Trucker & Country-Festival Interlaken HOG Schweiz Beteiligung
DESCRIPTION:
URL:https://midland-chapter.ch/event/trucker-country-festival-interlaken-hog-schweiz-beteiligung/
CATEGORIES:H.O.G. Events
END:VEVENT
BEGIN:VEVENT
DTSTART;TZID=Europe/Zurich:20260701T180000
DTEND;TZID=Europe/Zurich:20260701T210000
DTSTAMP:20260421T110901
CREATED:20260110T132332Z
LAST-MODIFIED:20260118T105625Z
UID:10000282-1782928800-1782939600@midland-chapter.ch
SUMMARY:Stamm
DESCRIPTION:
URL:https://midland-chapter.ch/event/stamm-29/
LOCATION:Restaurant Dietiker\, Alte Gasse 1\, Suhr\, 5034\, Switzerland
CATEGORIES:Stamm
END:VEVENT
BEGIN:VEVENT
DTSTART;VALUE=DATE:20260705
DTEND;VALUE=DATE:20260706
DTSTAMP:20260421T110901
CREATED:20260110T132332Z
LAST-MODIFIED:20260118T105625Z
UID:10000283-1783209600-1783295999@midland-chapter.ch
SUMMARY:Sternfahrt
DESCRIPTION:
URL:https://midland-chapter.ch/event/sternfahrt-2/
CATEGORIES:Andere Bike-Events
END:VEVENT
BEGIN:VEVENT
DTSTART;VALUE=DATE:20260712
DTEND;VALUE=DATE:20260713
DTSTAMP:20260421T110901
CREATED:20260110T132332Z
LAST-MODIFIED:20260118T105625Z
UID:10000284-1783814400-1783900799@midland-chapter.ch
SUMMARY:Sommertour
DESCRIPTION:
URL:https://midland-chapter.ch/event/sommertour-3/
CATEGORIES:Ride-Out
END:VEVENT
BEGIN:VEVENT
DTSTART;TZID=Europe/Zurich:20260715T180000
DTEND;TZID=Europe/Zurich:20260715T220000
DTSTAMP:20260421T110901
CREATED:20260110T132332Z
LAST-MODIFIED:20260118T105625Z
UID:10000285-1784138400-1784152800@midland-chapter.ch
SUMMARY:Monatssitzung
DESCRIPTION:18:00 – 20:00 gemütliches Abendessen (wer möchte)\n20:00 – 21:00 offizieller Teil der Sitzung\, das Ende kann variieren\n21:00 – 22:00 gemütliches Beisammensein (wer möchte)
URL:https://midland-chapter.ch/event/monatssitzung-27/
LOCATION:Restaurant Dietiker\, Alte Gasse 1\, Suhr\, 5034\, Switzerland
CATEGORIES:Monatssitzung
END:VEVENT
BEGIN:VEVENT
DTSTART;VALUE=DATE:20260725
DTEND;VALUE=DATE:20260726
DTSTAMP:20260421T110901
CREATED:20260110T132332Z
LAST-MODIFIED:20260118T105625Z
UID:10000286-1784937600-1785023999@midland-chapter.ch
SUMMARY:Mondscheintour
DESCRIPTION:
URL:https://midland-chapter.ch/event/mondscheintour/
CATEGORIES:Ride-Out
END:VEVENT
BEGIN:VEVENT
DTSTART;VALUE=DATE:20260801
DTEND;VALUE=DATE:20260802
DTSTAMP:20260421T110901
CREATED:20260110T132342Z
LAST-MODIFIED:20260118T105640Z
UID:10000287-1785542400-1785628799@midland-chapter.ch
SUMMARY:Bundesfeier
DESCRIPTION:
URL:https://midland-chapter.ch/event/bundesfeier/
CATEGORIES:Feiertag
END:VEVENT
BEGIN:VEVENT
DTSTART;TZID=Europe/Zurich:20260805T180000
DTEND;TZID=Europe/Zurich:20260805T210000
DTSTAMP:20260421T110901
CREATED:20260110T132342Z
LAST-MODIFIED:20260118T105640Z
UID:10000288-1785952800-1785963600@midland-chapter.ch
SUMMARY:Stamm
DESCRIPTION:
URL:https://midland-chapter.ch/event/stamm-30/
LOCATION:Restaurant Dietiker\, Alte Gasse 1\, Suhr\, 5034\, Switzerland
CATEGORIES:Stamm
END:VEVENT
BEGIN:VEVENT
DTSTART;VALUE=DATE:20260807
DTEND;VALUE=DATE:20260808
DTSTAMP:20260421T110901
CREATED:20260110T132342Z
LAST-MODIFIED:20260118T105640Z
UID:10000289-1786060800-1786147199@midland-chapter.ch
SUMMARY:Friday Night Shopping
DESCRIPTION:
URL:https://midland-chapter.ch/event/friday-night-shopping/
CATEGORIES:H-D Aargau Events
END:VEVENT
BEGIN:VEVENT
DTSTART;VALUE=DATE:20260814
DTEND;VALUE=DATE:20260817
DTSTAMP:20260421T110901
CREATED:20260110T132342Z
LAST-MODIFIED:20260118T105640Z
UID:10000290-1786665600-1786924799@midland-chapter.ch
SUMMARY:2. Interchapter Eastside Chapter
DESCRIPTION:
URL:https://midland-chapter.ch/event/2-interchapter-eastside-chapter/
CATEGORIES:Andere Bike-Events
END:VEVENT
BEGIN:VEVENT
DTSTART;VALUE=DATE:20260815
DTEND;VALUE=DATE:20260817
DTSTAMP:20260421T110901
CREATED:20260110T132342Z
LAST-MODIFIED:20260118T105640Z
UID:10000291-1786752000-1786924799@midland-chapter.ch
SUMMARY:L.O.H. Ride Out
DESCRIPTION:
URL:https://midland-chapter.ch/event/l-o-h-ride-out/
CATEGORIES:L.O.H. Rideouts
END:VEVENT
BEGIN:VEVENT
DTSTART;TZID=Europe/Zurich:20260819T180000
DTEND;TZID=Europe/Zurich:20260819T220000
DTSTAMP:20260421T110901
CREATED:20260110T132350Z
LAST-MODIFIED:20260118T105724Z
UID:10000292-1787162400-1787176800@midland-chapter.ch
SUMMARY:Monatssitzung
DESCRIPTION:18:00 – 20:00 gemütliches Abendessen (wer möchte)\n20:00 – 21:00 offizieller Teil der Sitzung\, das Ende kann variieren\n21:00 – 22:00 gemütliches Beisammensein (wer möchte)
URL:https://midland-chapter.ch/event/monatssitzung-28/
LOCATION:Restaurant Dietiker\, Alte Gasse 1\, Suhr\, 5034\, Switzerland
CATEGORIES:Monatssitzung
END:VEVENT
BEGIN:VEVENT
DTSTART;VALUE=DATE:20260822
DTEND;VALUE=DATE:20260824
DTSTAMP:20260421T110901
CREATED:20260110T132350Z
LAST-MODIFIED:20260331T053604Z
UID:10000293-1787356800-1787529599@midland-chapter.ch
SUMMARY:Harley Summer Tour
DESCRIPTION:
URL:https://midland-chapter.ch/event/harley-summer-tour/
CATEGORIES:Ride-Out
END:VEVENT
BEGIN:VEVENT
DTSTART;VALUE=DATE:20260828
DTEND;VALUE=DATE:20260829
DTSTAMP:20260421T110901
CREATED:20260110T132350Z
LAST-MODIFIED:20260118T105725Z
UID:10000294-1787875200-1787961599@midland-chapter.ch
SUMMARY:C.O.R.E. 2026 (Anreise)
DESCRIPTION:
URL:https://midland-chapter.ch/event/c-o-r-e-2026-anreise/
CATEGORIES:H.O.G. Events
END:VEVENT
BEGIN:VEVENT
DTSTART;VALUE=DATE:20260829
DTEND;VALUE=DATE:20260831
DTSTAMP:20260421T110901
CREATED:20260110T132350Z
LAST-MODIFIED:20260118T105725Z
UID:10000295-1787961600-1788134399@midland-chapter.ch
SUMMARY:C.O.R.E. 2026
DESCRIPTION:
URL:https://midland-chapter.ch/event/c-o-r-e-2026/
CATEGORIES:H.O.G. Events
END:VEVENT
BEGIN:VEVENT
DTSTART;TZID=Europe/Zurich:20260902T180000
DTEND;TZID=Europe/Zurich:20260902T210000
DTSTAMP:20260421T110901
CREATED:20260110T132350Z
LAST-MODIFIED:20260118T105725Z
UID:10000296-1788372000-1788382800@midland-chapter.ch
SUMMARY:Stamm
DESCRIPTION:
URL:https://midland-chapter.ch/event/stamm-31/
LOCATION:Restaurant Dietiker\, Alte Gasse 1\, Suhr\, 5034\, Switzerland
CATEGORIES:Stamm
END:VEVENT
BEGIN:VEVENT
DTSTART;VALUE=DATE:20260904
DTEND;VALUE=DATE:20260907
DTSTAMP:20260421T110901
CREATED:20260110T132400Z
LAST-MODIFIED:20260118T105925Z
UID:10000297-1788480000-1788739199@midland-chapter.ch
SUMMARY:35-Jahre NWS
DESCRIPTION:
URL:https://midland-chapter.ch/event/35-jahre-nws/
CATEGORIES:H-D Aargau Events
END:VEVENT
BEGIN:VEVENT
DTSTART;VALUE=DATE:20260913
DTEND;VALUE=DATE:20260914
DTSTAMP:20260421T110901
CREATED:20260110T132400Z
LAST-MODIFIED:20260118T105925Z
UID:10000298-1789257600-1789343999@midland-chapter.ch
SUMMARY:Herbsttour
DESCRIPTION:
URL:https://midland-chapter.ch/event/herbsttour-2/
CATEGORIES:Ride-Out
END:VEVENT
BEGIN:VEVENT
DTSTART;TZID=Europe/Zurich:20260916T180000
DTEND;TZID=Europe/Zurich:20260916T220000
DTSTAMP:20260421T110901
CREATED:20260110T132400Z
LAST-MODIFIED:20260118T105925Z
UID:10000299-1789581600-1789596000@midland-chapter.ch
SUMMARY:Monatssitzung
DESCRIPTION:18:00 – 20:00 gemütliches Abendessen (wer möchte)\n20:00 – 21:00 offizieller Teil der Sitzung\, das Ende kann variieren\n21:00 – 22:00 gemütliches Beisammensein (wer möchte)
URL:https://midland-chapter.ch/event/monatssitzung-29/
LOCATION:Restaurant Dietiker\, Alte Gasse 1\, Suhr\, 5034\, Switzerland
CATEGORIES:Monatssitzung
END:VEVENT
BEGIN:VEVENT
DTSTART;VALUE=DATE:20260919
DTEND;VALUE=DATE:20260920
DTSTAMP:20260421T110901
CREATED:20260110T132400Z
LAST-MODIFIED:20260118T105925Z
UID:10000300-1789776000-1789862399@midland-chapter.ch
SUMMARY:Lemanic Chapter Juiläum (prov.)
DESCRIPTION:
URL:https://midland-chapter.ch/event/lemanic-chapter-juilaeum-prov/
CATEGORIES:Andere Bike-Events
END:VEVENT
BEGIN:VEVENT
DTSTART;VALUE=DATE:20260919
DTEND;VALUE=DATE:20260920
DTSTAMP:20260421T110901
CREATED:20260110T132401Z
LAST-MODIFIED:20260118T105925Z
UID:10000301-1789776000-1789862399@midland-chapter.ch
SUMMARY:Open House Bagger Watch Party
DESCRIPTION:
URL:https://midland-chapter.ch/event/open-house-bagger-watch-party/
CATEGORIES:H-D Aargau Events
END:VEVENT
BEGIN:VEVENT
DTSTART;VALUE=DATE:20260920
DTEND;VALUE=DATE:20260921
DTSTAMP:20260421T110901
CREATED:20260110T132407Z
LAST-MODIFIED:20260118T110102Z
UID:10000302-1789862400-1789948799@midland-chapter.ch
SUMMARY:Spagetti Essen Thomi (ex. NWS)
DESCRIPTION:
URL:https://midland-chapter.ch/event/spagetti-essen-thomi-ex-nws/
CATEGORIES:Andere Bike-Events
END:VEVENT
BEGIN:VEVENT
DTSTART;VALUE=DATE:20260926
DTEND;VALUE=DATE:20260927
DTSTAMP:20260421T110901
CREATED:20260110T132407Z
LAST-MODIFIED:20260118T110102Z
UID:10000303-1790380800-1790467199@midland-chapter.ch
SUMMARY:Lemanic Chapter Juiläum (prov.)
DESCRIPTION:
URL:https://midland-chapter.ch/event/lemanic-chapter-juilaeum-prov-2/
CATEGORIES:Andere Bike-Events
END:VEVENT
BEGIN:VEVENT
DTSTART;TZID=Europe/Zurich:20261007T180000
DTEND;TZID=Europe/Zurich:20261007T210000
DTSTAMP:20260421T110901
CREATED:20260110T132407Z
LAST-MODIFIED:20260118T110102Z
UID:10000304-1791396000-1791406800@midland-chapter.ch
SUMMARY:Stamm
DESCRIPTION:
URL:https://midland-chapter.ch/event/stamm-32/
LOCATION:Restaurant Dietiker\, Alte Gasse 1\, Suhr\, 5034\, Switzerland
CATEGORIES:Stamm
END:VEVENT
BEGIN:VEVENT
DTSTART;VALUE=DATE:20261011
DTEND;VALUE=DATE:20261012
DTSTAMP:20260421T110901
CREATED:20260110T132407Z
LAST-MODIFIED:20260118T110102Z
UID:10000305-1791676800-1791763199@midland-chapter.ch
SUMMARY:Schlottertour
DESCRIPTION:
URL:https://midland-chapter.ch/event/schlottertour-2/
CATEGORIES:Ride-Out
END:VEVENT
BEGIN:VEVENT
DTSTART;TZID=Europe/Zurich:20261021T000000
DTEND;TZID=Europe/Zurich:20261021T000000
DTSTAMP:20260421T110901
CREATED:20260110T132403Z
LAST-MODIFIED:20260118T110102Z
UID:10000235-1792540800-1792540800@midland-chapter.ch
SUMMARY:Monatssitzung
DESCRIPTION:
URL:https://midland-chapter.ch/event/__trashed-13/
LOCATION:Restaurant Dietiker\, Alte Gasse 1\, Suhr\, 5034\, Switzerland
CATEGORIES:Monatssitzung
END:VEVENT
BEGIN:VEVENT
DTSTART;VALUE=DATE:20261024
DTEND;VALUE=DATE:20261026
DTSTAMP:20260421T110901
CREATED:20260118T110116Z
LAST-MODIFIED:20260118T110116Z
UID:10000322-1792800000-1792972799@midland-chapter.ch
SUMMARY:L.O.H. Ladies Weekend
DESCRIPTION:
URL:https://midland-chapter.ch/event/l-o-h-ladies-weekend/
CATEGORIES:L.O.H. Rideouts
END:VEVENT
BEGIN:VEVENT
DTSTART;VALUE=DATE:20261101
DTEND;VALUE=DATE:20261102
DTSTAMP:20260421T110901
CREATED:20260110T132417Z
LAST-MODIFIED:20260118T110116Z
UID:10000306-1793491200-1793577599@midland-chapter.ch
SUMMARY:Allerheiligen
DESCRIPTION:
URL:https://midland-chapter.ch/event/allerheiligen/
CATEGORIES:Feiertag
END:VEVENT
BEGIN:VEVENT
DTSTART;TZID=Europe/Zurich:20261104T180000
DTEND;TZID=Europe/Zurich:20261104T210000
DTSTAMP:20260421T110901
CREATED:20260110T132417Z
LAST-MODIFIED:20260118T110116Z
UID:10000307-1793815200-1793826000@midland-chapter.ch
SUMMARY:Stamm
DESCRIPTION:
URL:https://midland-chapter.ch/event/stamm-33/
LOCATION:Restaurant Dietiker\, Alte Gasse 1\, Suhr\, 5034\, Switzerland
CATEGORIES:Stamm
END:VEVENT
BEGIN:VEVENT
DTSTART;TZID=Europe/Zurich:20261118T180000
DTEND;TZID=Europe/Zurich:20261118T220000
DTSTAMP:20260421T110901
CREATED:20260110T132417Z
LAST-MODIFIED:20260118T110116Z
UID:10000308-1795024800-1795039200@midland-chapter.ch
SUMMARY:Monatssitzung
DESCRIPTION:18:00 – 20:00 gemütliches Abendessen (wer möchte)\n20:00 – 21:00 offizieller Teil der Sitzung\, das Ende kann variieren\n21:00 – 22:00 gemütliches Beisammensein (wer möchte)
URL:https://midland-chapter.ch/event/monatssitzung-30/
LOCATION:Restaurant Dietiker\, Alte Gasse 1\, Suhr\, 5034\, Switzerland
CATEGORIES:Monatssitzung
END:VEVENT
BEGIN:VEVENT
DTSTART;VALUE=DATE:20261128
DTEND;VALUE=DATE:20261129
DTSTAMP:20260421T110901
CREATED:20260110T132417Z
LAST-MODIFIED:20260118T110117Z
UID:10000309-1795824000-1795910399@midland-chapter.ch
SUMMARY:White Saturday Biker Brunch
DESCRIPTION:
URL:https://midland-chapter.ch/event/white-saturday-biker-brunch/
CATEGORIES:H-D Aargau Events
END:VEVENT
BEGIN:VEVENT
DTSTART;TZID=Europe/Zurich:20261202T180000
DTEND;TZID=Europe/Zurich:20261202T210000
DTSTAMP:20260421T110901
CREATED:20260110T132417Z
LAST-MODIFIED:20260118T110125Z
UID:10000310-1796234400-1796245200@midland-chapter.ch
SUMMARY:Stamm
DESCRIPTION:
URL:https://midland-chapter.ch/event/stamm-34/
LOCATION:Restaurant Dietiker\, Alte Gasse 1\, Suhr\, 5034\, Switzerland
CATEGORIES:Stamm
END:VEVENT
BEGIN:VEVENT
DTSTART;VALUE=DATE:20261205
DTEND;VALUE=DATE:20261206
DTSTAMP:20260421T110901
CREATED:20260110T132418Z
LAST-MODIFIED:20260118T110125Z
UID:10000311-1796428800-1796515199@midland-chapter.ch
SUMMARY:Manni's Jahresabschluss
DESCRIPTION:
URL:https://midland-chapter.ch/event/mannis-jahresabschluss/
CATEGORIES:H-D Aargau Events
END:VEVENT
BEGIN:VEVENT
DTSTART;VALUE=DATE:20261212
DTEND;VALUE=DATE:20261213
DTSTAMP:20260421T110901
CREATED:20260110T132418Z
LAST-MODIFIED:20260118T110125Z
UID:10000312-1797033600-1797119999@midland-chapter.ch
SUMMARY:X-Mas Open House
DESCRIPTION:
URL:https://midland-chapter.ch/event/x-mas-open-house/
CATEGORIES:H-D Aargau Events
END:VEVENT
BEGIN:VEVENT
DTSTART;TZID=Europe/Zurich:20261216T180000
DTEND;TZID=Europe/Zurich:20261216T220000
DTSTAMP:20260421T110901
CREATED:20260110T132418Z
LAST-MODIFIED:20260118T110125Z
UID:10000313-1797444000-1797458400@midland-chapter.ch
SUMMARY:Monatssitzung
DESCRIPTION:18:00 – 20:00 gemütliches Abendessen (wer möchte)\n20:00 – 21:00 offizieller Teil der Sitzung\, das Ende kann variieren\n21:00 – 22:00 gemütliches Beisammensein (wer möchte)
URL:https://midland-chapter.ch/event/monatssitzung-31/
LOCATION:Restaurant Dietiker\, Alte Gasse 1\, Suhr\, 5034\, Switzerland
CATEGORIES:Monatssitzung
END:VEVENT
BEGIN:VEVENT
DTSTART;VALUE=DATE:20261219
DTEND;VALUE=DATE:20261220
DTSTAMP:20260421T110901
CREATED:20260110T132418Z
LAST-MODIFIED:20260118T110125Z
UID:10000314-1797638400-1797724799@midland-chapter.ch
SUMMARY:H-D AG Weihnachts Apéro
DESCRIPTION:
URL:https://midland-chapter.ch/event/h-d-ag-weihnachts-apero/
CATEGORIES:H-D Aargau Events
END:VEVENT
BEGIN:VEVENT
DTSTART;VALUE=DATE:20261224
DTEND;VALUE=DATE:20261225
DTSTAMP:20260421T110901
CREATED:20260110T132419Z
LAST-MODIFIED:20260118T110131Z
UID:10000315-1798070400-1798156799@midland-chapter.ch
SUMMARY:Heiligabend
DESCRIPTION:
URL:https://midland-chapter.ch/event/heiligabend/
CATEGORIES:Feiertag
END:VEVENT
BEGIN:VEVENT
DTSTART;VALUE=DATE:20261225
DTEND;VALUE=DATE:20261226
DTSTAMP:20260421T110901
CREATED:20260110T132428Z
LAST-MODIFIED:20260118T110132Z
UID:10000316-1798156800-1798243199@midland-chapter.ch
SUMMARY:Weihnachten
DESCRIPTION:
URL:https://midland-chapter.ch/event/weihnachten/
CATEGORIES:Feiertag
END:VEVENT
BEGIN:VEVENT
DTSTART;VALUE=DATE:20261226
DTEND;VALUE=DATE:20261227
DTSTAMP:20260421T110901
CREATED:20260110T132428Z
LAST-MODIFIED:20260118T110132Z
UID:10000317-1798243200-1798329599@midland-chapter.ch
SUMMARY:Stephanstag
DESCRIPTION:
URL:https://midland-chapter.ch/event/stephanstag/
CATEGORIES:Feiertag
END:VEVENT
END:VCALENDAR