BEGIN:VCALENDAR
VERSION:2.0
PRODID:-//Midland Chapter Switzerland - ECPv6.15.20//NONSGML v1.0//EN
CALSCALE:GREGORIAN
METHOD:PUBLISH
X-WR-CALNAME:Midland Chapter Switzerland
X-ORIGINAL-URL:https://midland-chapter.ch
X-WR-CALDESC:Veranstaltungen für Midland Chapter Switzerland
REFRESH-INTERVAL;VALUE=DURATION:PT1H
X-Robots-Tag:noindex
X-PUBLISHED-TTL:PT1H
BEGIN:VTIMEZONE
TZID:Europe/Zurich
BEGIN:DAYLIGHT
TZOFFSETFROM:+0100
TZOFFSETTO:+0200
TZNAME:CEST
DTSTART:20250330T010000
END:DAYLIGHT
BEGIN:STANDARD
TZOFFSETFROM:+0200
TZOFFSETTO:+0100
TZNAME:CET
DTSTART:20251026T010000
END:STANDARD
BEGIN:DAYLIGHT
TZOFFSETFROM:+0100
TZOFFSETTO:+0200
TZNAME:CEST
DTSTART:20260329T010000
END:DAYLIGHT
BEGIN:STANDARD
TZOFFSETFROM:+0200
TZOFFSETTO:+0100
TZNAME:CET
DTSTART:20261025T010000
END:STANDARD
BEGIN:DAYLIGHT
TZOFFSETFROM:+0100
TZOFFSETTO:+0200
TZNAME:CEST
DTSTART:20270328T010000
END:DAYLIGHT
BEGIN:STANDARD
TZOFFSETFROM:+0200
TZOFFSETTO:+0100
TZNAME:CET
DTSTART:20271031T010000
END:STANDARD
END:VTIMEZONE
BEGIN:VEVENT
DTSTART;TZID=Europe/Zurich:20260204T180000
DTEND;TZID=Europe/Zurich:20260204T210000
DTSTAMP:20260421T101130
CREATED:20260110T132211Z
LAST-MODIFIED:20260118T105151Z
UID:10000252-1770228000-1770238800@midland-chapter.ch
SUMMARY:Stamm
DESCRIPTION:
URL:https://midland-chapter.ch/event/stamm-24/
LOCATION:Restaurant Dietiker\, Alte Gasse 1\, Suhr\, 5034\, Switzerland
CATEGORIES:Stamm
END:VEVENT
BEGIN:VEVENT
DTSTART;TZID=Europe/Zurich:20260218T180000
DTEND;TZID=Europe/Zurich:20260218T220000
DTSTAMP:20260421T101130
CREATED:20260110T132212Z
LAST-MODIFIED:20260118T105154Z
UID:10000253-1771437600-1771452000@midland-chapter.ch
SUMMARY:Monatssitzung
DESCRIPTION:18:00 – 20:00 gemütliches Abendessen (wer möchte)\n20:00 – 21:00 offizieller Teil der Sitzung\, das Ende kann variieren\n21:00 – 22:00 gemütliches Beisammensein (wer möchte)
URL:https://midland-chapter.ch/event/monatssitzung-22/
LOCATION:Restaurant Dietiker\, Alte Gasse 1\, Suhr\, 5034\, Switzerland
CATEGORIES:Monatssitzung
END:VEVENT
BEGIN:VEVENT
DTSTART;VALUE=DATE:20260221
DTEND;VALUE=DATE:20260222
DTSTAMP:20260421T101130
CREATED:20260110T132213Z
LAST-MODIFIED:20260118T105154Z
UID:10000254-1771632000-1771718399@midland-chapter.ch
SUMMARY:Manni Grillt An
DESCRIPTION:
URL:https://midland-chapter.ch/event/manni-grillt-an/
CATEGORIES:H-D Aargau Events
END:VEVENT
BEGIN:VEVENT
DTSTART;TZID=Europe/Zurich:20260227T173000
DTEND;TZID=Europe/Zurich:20260227T213000
DTSTAMP:20260421T101130
CREATED:20250930T202038Z
LAST-MODIFIED:20250930T202320Z
UID:10000175-1772213400-1772227800@midland-chapter.ch
SUMMARY:Hauptversammlung 2026
DESCRIPTION:Eintreffen: Ab 17:30 Uhr\nOffizieller Teil der Hauptversammlung: 18:30 bis ca. 19:30 Uhr\nAbendessen: Im Anschluss an die Hauptversammlung
URL:https://midland-chapter.ch/event/hauptversammlung-2026/
LOCATION:Harley-Davidson Aargau\, Kaisermatt 1\, Densbüren\, 5026\, Switzerland
CATEGORIES:Hauptversammlung
END:VEVENT
END:VCALENDAR