BEGIN:VCALENDAR
VERSION:2.0
PRODID:-//Midland Chapter Switzerland - ECPv6.15.20//NONSGML v1.0//EN
CALSCALE:GREGORIAN
METHOD:PUBLISH
X-ORIGINAL-URL:https://midland-chapter.ch
X-WR-CALDESC:Veranstaltungen für Midland Chapter Switzerland
REFRESH-INTERVAL;VALUE=DURATION:PT1H
X-Robots-Tag:noindex
X-PUBLISHED-TTL:PT1H
BEGIN:VTIMEZONE
TZID:Europe/Zurich
BEGIN:DAYLIGHT
TZOFFSETFROM:+0100
TZOFFSETTO:+0200
TZNAME:CEST
DTSTART:20250330T010000
END:DAYLIGHT
BEGIN:STANDARD
TZOFFSETFROM:+0200
TZOFFSETTO:+0100
TZNAME:CET
DTSTART:20251026T010000
END:STANDARD
BEGIN:DAYLIGHT
TZOFFSETFROM:+0100
TZOFFSETTO:+0200
TZNAME:CEST
DTSTART:20260329T010000
END:DAYLIGHT
BEGIN:STANDARD
TZOFFSETFROM:+0200
TZOFFSETTO:+0100
TZNAME:CET
DTSTART:20261025T010000
END:STANDARD
BEGIN:DAYLIGHT
TZOFFSETFROM:+0100
TZOFFSETTO:+0200
TZNAME:CEST
DTSTART:20270328T010000
END:DAYLIGHT
BEGIN:STANDARD
TZOFFSETFROM:+0200
TZOFFSETTO:+0100
TZNAME:CET
DTSTART:20271031T010000
END:STANDARD
END:VTIMEZONE
BEGIN:VEVENT
DTSTART;TZID=Europe/Zurich:20260304T180000
DTEND;TZID=Europe/Zurich:20260304T210000
DTSTAMP:20260421T101203
CREATED:20260110T132213Z
LAST-MODIFIED:20260118T105154Z
UID:10000255-1772647200-1772658000@midland-chapter.ch
SUMMARY:Stamm
DESCRIPTION:
URL:https://midland-chapter.ch/event/stamm-25/
LOCATION:Restaurant Dietiker\, Alte Gasse 1\, Suhr\, 5034\, Switzerland
CATEGORIES:Stamm
END:VEVENT
BEGIN:VEVENT
DTSTART;TZID=Europe/Zurich:20260318T180000
DTEND;TZID=Europe/Zurich:20260318T220000
DTSTAMP:20260421T101203
CREATED:20260110T132213Z
LAST-MODIFIED:20260118T105154Z
UID:10000256-1773856800-1773871200@midland-chapter.ch
SUMMARY:Monatssitzung
DESCRIPTION:18:00 – 20:00 gemütliches Abendessen (wer möchte)\n20:00 – 21:00 offizieller Teil der Sitzung\, das Ende kann variieren\n21:00 – 22:00 gemütliches Beisammensein (wer möchte)
URL:https://midland-chapter.ch/event/monatssitzung-23/
LOCATION:Restaurant Dietiker\, Alte Gasse 1\, Suhr\, 5034\, Switzerland
CATEGORIES:Monatssitzung
END:VEVENT
BEGIN:VEVENT
DTSTART;VALUE=DATE:20260329
DTEND;VALUE=DATE:20260330
DTSTAMP:20260421T101203
CREATED:20260110T132228Z
LAST-MODIFIED:20260118T105209Z
UID:10000257-1774742400-1774828799@midland-chapter.ch
SUMMARY:Warm-Up Tour
DESCRIPTION:
URL:https://midland-chapter.ch/event/warm-up-tour-2/
CATEGORIES:Ride-Out
END:VEVENT
END:VCALENDAR